BEGIN:VCALENDAR
VERSION:2.0
PRODID:icalendar-ruby
CALSCALE:GREGORIAN
BEGIN:VEVENT
DTSTAMP:20260419T142600Z
UID:1fc41f73-1099-45e8-8c43-b408cc094718
DTSTART;TZID=Pacific/Auckland:20260419T140000
DTEND;TZID=Pacific/Auckland:20260419T143000
DESCRIPTION:Property ID# 606173
SUMMARY:Openhome for 39 Tanera Crescent
END:VEVENT
END:VCALENDAR
