BEGIN:VCALENDAR
VERSION:2.0
PRODID:icalendar-ruby
CALSCALE:GREGORIAN
BEGIN:VEVENT
DTSTAMP:20260425T102742Z
UID:ae7ec065-c00c-4f3b-bf82-c6a50c55207d
DTSTART;VALUE=DATE:20251127
DESCRIPTION:Property ID# 600033\, Locatoin: 8 Kent Terrace\, Wellington\, T
 ime: 11:00AM
SUMMARY:Auction for 
END:VEVENT
END:VCALENDAR
