BEGIN:VCALENDAR
VERSION:2.0
PRODID:icalendar-ruby
CALSCALE:GREGORIAN
BEGIN:VEVENT
DTSTAMP:20260419T155436Z
UID:da8e1b91-9209-4959-96ce-1113ef9ea9ae
DTSTART;VALUE=DATE:20250424
DESCRIPTION:Property ID# 590814\, Locatoin: 1/77 Thorndon Quay\, Time: 1:00
 PM
SUMMARY:Auction for 
END:VEVENT
END:VCALENDAR
