BEGIN:VCALENDAR
VERSION:2.0
PRODID:icalendar-ruby
CALSCALE:GREGORIAN
BEGIN:VEVENT
DTSTAMP:20260421T234359Z
UID:dfdb36fb-9824-4468-8783-b8a03c476b92
DTSTART;VALUE=DATE:20250327
DESCRIPTION:Property ID# 589359\, Locatoin: 8 Kent Terrace\, Wellington\, T
 ime: 12:00PM
SUMMARY:Auction for 
END:VEVENT
END:VCALENDAR
