BEGIN:VCALENDAR
VERSION:2.0
PRODID:icalendar-ruby
CALSCALE:GREGORIAN
BEGIN:VEVENT
DTSTAMP:20260419T155436Z
UID:b8177e29-8925-46c9-9ff2-71e18763051f
DTSTART;VALUE=DATE:20221117
DESCRIPTION:Property ID# 546723\, Locatoin: 1/77 Thorndon Quay\, Time: 1:00
 PM
SUMMARY:Auction for 
END:VEVENT
END:VCALENDAR
