BEGIN:VCALENDAR
VERSION:2.0
PRODID:icalendar-ruby
CALSCALE:GREGORIAN
BEGIN:VEVENT
DTSTAMP:20260419T161342Z
UID:79a2476b-63ed-4c42-965c-0ee594389fc0
DTSTART;VALUE=DATE:20241115
DESCRIPTION:Property ID# 544131\, Locatoin: 1/77 Thorndon Quay\, Time: 11:0
 0AM
SUMMARY:Auction for 
END:VEVENT
END:VCALENDAR
