BEGIN:VCALENDAR
VERSION:2.0
PRODID:icalendar-ruby
CALSCALE:GREGORIAN
BEGIN:VEVENT
DTSTAMP:20260421T234400Z
UID:b4b3c7f1-8476-485a-922c-d6ed9b762976
DTSTART;VALUE=DATE:20201118
DESCRIPTION:Property ID# 494079\, Locatoin: 8 Kent Terrace\, Wellington\, T
 ime: 12:00PM
SUMMARY:Auction for 
END:VEVENT
END:VCALENDAR
