BEGIN:VCALENDAR
VERSION:2.0
PRODID:icalendar-ruby
CALSCALE:GREGORIAN
BEGIN:VEVENT
DTSTAMP:20260421T234308Z
UID:28b6b0ff-e8d2-4e09-a8ca-c48edf2ca1da
DTSTART;VALUE=DATE:20200603
DESCRIPTION:Property ID# 481106\, Locatoin: 21 Ganges Road\, Khandallah\, T
 ime: 12:00PM
SUMMARY:Auction for 
END:VEVENT
END:VCALENDAR
